BEGIN:VCALENDAR
VERSION:2.0
PRODID:-//METAL - ECPv6.15.20//NONSGML v1.0//EN
CALSCALE:GREGORIAN
METHOD:PUBLISH
X-ORIGINAL-URL:https://www.metalforamerica.org
X-WR-CALDESC:Events for METAL
REFRESH-INTERVAL;VALUE=DURATION:PT1H
X-Robots-Tag:noindex
X-PUBLISHED-TTL:PT1H
BEGIN:VTIMEZONE
TZID:America/New_York
BEGIN:DAYLIGHT
TZOFFSETFROM:-0500
TZOFFSETTO:-0400
TZNAME:EDT
DTSTART:20250309T070000
END:DAYLIGHT
BEGIN:STANDARD
TZOFFSETFROM:-0400
TZOFFSETTO:-0500
TZNAME:EST
DTSTART:20251102T060000
END:STANDARD
BEGIN:DAYLIGHT
TZOFFSETFROM:-0500
TZOFFSETTO:-0400
TZNAME:EDT
DTSTART:20260308T070000
END:DAYLIGHT
BEGIN:STANDARD
TZOFFSETFROM:-0400
TZOFFSETTO:-0500
TZNAME:EST
DTSTART:20261101T060000
END:STANDARD
BEGIN:DAYLIGHT
TZOFFSETFROM:-0500
TZOFFSETTO:-0400
TZNAME:EDT
DTSTART:20270314T070000
END:DAYLIGHT
BEGIN:STANDARD
TZOFFSETFROM:-0400
TZOFFSETTO:-0500
TZNAME:EST
DTSTART:20271107T060000
END:STANDARD
END:VTIMEZONE
BEGIN:VEVENT
DTSTART;TZID=America/New_York:20260810T080000
DTEND;TZID=America/New_York:20260813T170000
DTSTAMP:20260419T074715
CREATED:20260416T172915Z
LAST-MODIFIED:20260416T172915Z
UID:10000065-1786348800-1786640400@www.metalforamerica.org
SUMMARY:The Ohio State University METAL Bootcamp
DESCRIPTION:Register to attend The Ohio State University’s Metallurgical Engineering Trades Apprenticeship & Learning (METAL) Bootcamp! \nThe METAL program aims to reverse the decline of the U.S. casting and forging workforce while inspiring a new generation of metallurgical professionals. Guided by industry and faculty experts\, students gain valuable insights and open doors to careers in metalcasting and forging. \nMETAL boot camps offer an unparalleled opportunity to dive deep into the world of metallurgy. These one-week intensive programs\, hosted on college campuses\, are designed to ignite a passion for forging and casting in the next generation of innovators and builders. \nBy immersing yourself in hands-on experiences and learning directly from industry experts\, you’ll gain invaluable insights into the field of metallurgy. \nLed by the Institute for Advanced Composites Manufacturing Innovation (IACMI) and supported by the Department of Defense\, METAL aims to empower individuals and engage them in the field of metallurgy. \nPlease note: Online component must be completed before attending bootcamp. Register here. \nRegister now \nLearn more
URL:https://www.metalforamerica.org/event/the-ohio-state-university-metal-bootcamp-8/
CATEGORIES:Bootcamps
END:VEVENT
END:VCALENDAR