BEGIN:VCALENDAR
VERSION:2.0
PRODID:-//METAL - ECPv6.15.20//NONSGML v1.0//EN
CALSCALE:GREGORIAN
METHOD:PUBLISH
X-ORIGINAL-URL:https://www.metalforamerica.org
X-WR-CALDESC:Events for METAL
REFRESH-INTERVAL;VALUE=DURATION:PT1H
X-Robots-Tag:noindex
X-PUBLISHED-TTL:PT1H
BEGIN:VTIMEZONE
TZID:America/New_York
BEGIN:DAYLIGHT
TZOFFSETFROM:-0500
TZOFFSETTO:-0400
TZNAME:EDT
DTSTART:20240310T070000
END:DAYLIGHT
BEGIN:STANDARD
TZOFFSETFROM:-0400
TZOFFSETTO:-0500
TZNAME:EST
DTSTART:20241103T060000
END:STANDARD
BEGIN:DAYLIGHT
TZOFFSETFROM:-0500
TZOFFSETTO:-0400
TZNAME:EDT
DTSTART:20250309T070000
END:DAYLIGHT
BEGIN:STANDARD
TZOFFSETFROM:-0400
TZOFFSETTO:-0500
TZNAME:EST
DTSTART:20251102T060000
END:STANDARD
BEGIN:DAYLIGHT
TZOFFSETFROM:-0500
TZOFFSETTO:-0400
TZNAME:EDT
DTSTART:20260308T070000
END:DAYLIGHT
BEGIN:STANDARD
TZOFFSETFROM:-0400
TZOFFSETTO:-0500
TZNAME:EST
DTSTART:20261101T060000
END:STANDARD
END:VTIMEZONE
BEGIN:VEVENT
DTSTART;TZID=America/New_York:20250721T080000
DTEND;TZID=America/New_York:20250725T163000
DTSTAMP:20260420T013548
CREATED:20250708T134610Z
LAST-MODIFIED:20250708T140014Z
UID:10000030-1753084800-1753461000@www.metalforamerica.org
SUMMARY:University of Alabama at Birmingham METAL Bootcamp
DESCRIPTION:Register to attend UAB’s Metallurgical Engineering Trades Apprenticeship & Learning (METAL) Bootcamp! \nThe METAL program aims to reverse the decline of the U.S. casting and forging workforce while inspiring a new generation of metallurgical professionals. Guided by industry and faculty experts\, students gain valuable insights and open doors to careers in metalcasting and forging. \nMETAL boot camps offer an unparalleled opportunity to dive deep into the world of metallurgy. These one-week intensive programs\, hosted on college campuses\, are designed to ignite a passion for forging and casting in the next generation of innovators and builders. \nBy immersing yourself in hands-on experiences and learning directly from industry experts\, you’ll gain invaluable insights into the field of metallurgy. \nLed by the Institute for Advanced Composites Manufacturing Innovation (IACMI) and supported by the Department of Defense\, METAL aims to empower individuals and engage them in the field of metallurgy. \nThe camp is free and is open to all\, but the curriculum is geared toward people in the following categories: \n\nHigh school students who are interested in exploring careers in the metal-related industry\nCollege students (two-year and four-year)\nOther individuals or groups with an interest in metals\n\nPlease note: Online component must be completed before attending bootcamp. Register here. \nRegister now \nLearn more
URL:https://www.metalforamerica.org/event/university-of-alabama-at-birmingham-metal-bootcamp-3/
LOCATION:UAB Foundry\, 501 12th St S\, Birmingham\, AL\, 35294\, United States
CATEGORIES:Bootcamps
END:VEVENT
BEGIN:VEVENT
DTSTART;TZID=America/New_York:20250623T080000
DTEND;TZID=America/New_York:20250627T163000
DTSTAMP:20260420T013548
CREATED:20250429T200359Z
LAST-MODIFIED:20250429T200359Z
UID:10000016-1750665600-1751041800@www.metalforamerica.org
SUMMARY:University of Alabama at Birmingham METAL Bootcamp
DESCRIPTION:Register to attend UAB’s Metallurgical Engineering Trades Apprenticeship & Learning (METAL) Bootcamp! \nUAB will be hosting a five-day Metal Casting Bootcamp in summer 2025 in the foundry at the Materials Processing and Applications Development (MPAD) facility. \nThe camp is free and is open to all\, but the curriculum is geared toward people in the following categories: \n\nHigh school students who are interested in exploring careers in the metal-related industry\nCollege students (two-year and four-year)\nOther individuals or groups with an interest in metals\n\nPlease note: Online component must be completed before attending bootcamp. Register here. \nRegister now \nLearn more
URL:https://www.metalforamerica.org/event/university-of-alabama-at-birmingham-metal-bootcamp/
LOCATION:UAB Foundry\, 501 12th St S\, Birmingham\, AL\, 35294\, United States
CATEGORIES:Bootcamps
END:VEVENT
BEGIN:VEVENT
DTSTART;TZID=America/New_York:20250602T080000
DTEND;TZID=America/New_York:20250606T163000
DTSTAMP:20260420T013548
CREATED:20250429T200255Z
LAST-MODIFIED:20250429T200255Z
UID:10000015-1748851200-1749227400@www.metalforamerica.org
SUMMARY:University of Alabama at Birmingham METAL Bootcamp
DESCRIPTION:Register to attend UAB’s Metallurgical Engineering Trades Apprenticeship & Learning (METAL) Bootcamp! \nUAB will be hosting a five-day Metal Casting Bootcamp in summer 2025 in the foundry at the Materials Processing and Applications Development (MPAD) facility. \nThe camp is free and is open to all\, but the curriculum is geared toward people in the following categories: \n\nHigh school students who are interested in exploring careers in the metal-related industry\nCollege students (two-year and four-year)\nOther individuals or groups with an interest in metals\n\nPlease note: Online component must be completed before attending bootcamp. Register here. \nRegister now \nLearn more
URL:https://www.metalforamerica.org/event/university-of-alabama-at-birmingham-metal-bootcamp-2/
LOCATION:UAB Foundry\, 501 12th St S\, Birmingham\, AL\, 35294\, United States
CATEGORIES:Bootcamps
END:VEVENT
BEGIN:VEVENT
DTSTART;TZID=America/New_York:20250512T080000
DTEND;TZID=America/New_York:20250516T163000
DTSTAMP:20260420T013548
CREATED:20250429T195731Z
LAST-MODIFIED:20250429T195731Z
UID:10000014-1747036800-1747413000@www.metalforamerica.org
SUMMARY:University of Alabama at Birmingham METAL Bootcamp
DESCRIPTION:Register to attend UAB’s Metallurgical Engineering Trades Apprenticeship & Learning (METAL) Bootcamp! \nUAB will be hosting a five-day Metal Casting Bootcamp in summer 2025 in the foundry at the Materials Processing and Applications Development (MPAD) facility. \nThe camp is free and is open to all\, but the curriculum is geared toward people in the following categories: \n\nHigh school students who are interested in exploring careers in the metal-related industry\nCollege students (two-year and four-year)\nOther individuals or groups with an interest in metals\n\nPlease note: Online component must be completed before attending bootcamp. Register here. \nRegister now \nLearn more
URL:https://www.metalforamerica.org/event/uab-metal-bootcamp-1/
LOCATION:UAB Foundry\, 501 12th St S\, Birmingham\, AL\, 35294\, United States
CATEGORIES:Bootcamps
END:VEVENT
END:VCALENDAR